BEGIN:VCALENDAR
VERSION:2.0
PRODID:-//Event Kalender//DE
CALSCALE:GREGORIAN
METHOD:PUBLISH
BEGIN:VEVENT
UID:prec-1338@kiekebusch.de
DTSTAMP:20260424T164945Z
CREATED:20260313T053110Z
LAST-MODIFIED:20260404T132416Z
DTSTART;TZID=Europe/Berlin:20260328T062900
DTEND;TZID=Europe/Berlin:20260328T062900
SUMMARY:Frühjahresputz im gesamten Dorf
URL:https://kiekebusch.de/events/fruehjahresputz-im-gesamten-dorf/
CLASS:PUBLIC
STATUS:CONFIRMED
END:VEVENT
END:VCALENDAR
