BEGIN:VCALENDAR
VERSION:2.0
PRODID:-//Event Kalender//DE
CALSCALE:GREGORIAN
METHOD:PUBLISH
BEGIN:VEVENT
UID:prec-1341@kiekebusch.de
DTSTAMP:20260425T020711Z
CREATED:20260114T145616Z
LAST-MODIFIED:20260404T134524Z
DTSTART;TZID=Europe/Berlin:20261120T155500
DTEND;TZID=Europe/Berlin:20261120T155500
SUMMARY:Eisbeinessen
URL:https://kiekebusch.de/events/eisbeinessen/
CLASS:PUBLIC
STATUS:CONFIRMED
END:VEVENT
END:VCALENDAR
