BEGIN:VCALENDAR
VERSION:2.0
PRODID:-//Event Kalender//DE
CALSCALE:GREGORIAN
METHOD:PUBLISH
BEGIN:VEVENT
UID:prec-1342@kiekebusch.de
DTSTAMP:20260425T004406Z
CREATED:20260114T145528Z
LAST-MODIFIED:20260404T134524Z
DTSTART;TZID=Europe/Berlin:20261030T155400
DTEND;TZID=Europe/Berlin:20261030T155400
SUMMARY:Geisterstunde
URL:https://kiekebusch.de/events/geisterstunde/
CLASS:PUBLIC
STATUS:CONFIRMED
END:VEVENT
END:VCALENDAR
