BEGIN:VCALENDAR
VERSION:2.0
PRODID:-//Event Kalender//DE
CALSCALE:GREGORIAN
METHOD:PUBLISH
BEGIN:VEVENT
UID:prec-1343@kiekebusch.de
DTSTAMP:20260424T213325Z
CREATED:20260114T145432Z
LAST-MODIFIED:20260404T134524Z
DTSTART;TZID=Europe/Berlin:20260829T155300
DTEND;TZID=Europe/Berlin:20260830T155300
SUMMARY:Heimatfest
URL:https://kiekebusch.de/events/heimatfest/
CLASS:PUBLIC
STATUS:CONFIRMED
END:VEVENT
END:VCALENDAR
