BEGIN:VCALENDAR
VERSION:2.0
PRODID:-//Event Kalender//DE
CALSCALE:GREGORIAN
METHOD:PUBLISH
BEGIN:VEVENT
UID:prec-1344@kiekebusch.de
DTSTAMP:20260424T191512Z
CREATED:20260114T145154Z
LAST-MODIFIED:20260422T110651Z
DTSTART;TZID=Europe/Berlin:20260711T170000
DTEND;TZID=Europe/Berlin:20260711T235900
SUMMARY:Klappstuhlkino
DESCRIPTION:&nbsp\\;
LOCATION:Sportplatz Kiekebusch Turnstraße 8 03051 Cottbus DE
GEO:51.723607;14.358676
URL:https://kiekebusch.de/events/klappstuhlkino/
CLASS:PUBLIC
STATUS:CONFIRMED
END:VEVENT
END:VCALENDAR
