BEGIN:VCALENDAR
VERSION:2.0
PRODID:-//Event Kalender//DE
CALSCALE:GREGORIAN
METHOD:PUBLISH
BEGIN:VEVENT
UID:prec-1345@kiekebusch.de
DTSTAMP:20260424T170715Z
CREATED:20260114T145101Z
LAST-MODIFIED:20260423T115416Z
DTSTART;TZID=Europe/Berlin:20260531T155000
DTEND;TZID=Europe/Berlin:20260531T155000
SUMMARY:Kinderfest
DESCRIPTION:&nbsp\\;
LOCATION:DE
URL:https://kiekebusch.de/events/kinderfest/
CLASS:PUBLIC
STATUS:CONFIRMED
END:VEVENT
END:VCALENDAR
