BEGIN:VCALENDAR
VERSION:2.0
PRODID:-//Event Kalender//DE
CALSCALE:GREGORIAN
METHOD:PUBLISH
BEGIN:VEVENT
UID:prec-1347@kiekebusch.de
DTSTAMP:20260424T153845Z
CREATED:20260114T144842Z
LAST-MODIFIED:20260404T134524Z
DTSTART;TZID=Europe/Berlin:20260404T154800
DTEND;TZID=Europe/Berlin:20260404T154800
SUMMARY:Osterfeuer
URL:https://kiekebusch.de/events/osterfeuer/
CLASS:PUBLIC
STATUS:CONFIRMED
END:VEVENT
END:VCALENDAR
