BEGIN:VCALENDAR
VERSION:2.0
PRODID:-//Event Kalender//DE
CALSCALE:GREGORIAN
METHOD:PUBLISH
BEGIN:VEVENT
UID:prec-1349@kiekebusch.de
DTSTAMP:20260424T182925Z
CREATED:20260114T134845Z
LAST-MODIFIED:20260404T134524Z
DTSTART;TZID=Europe/Berlin:20260228T144800
DTEND;TZID=Europe/Berlin:20260228T144800
SUMMARY:Schlachtefest
URL:https://kiekebusch.de/events/schlachtefest/
CLASS:PUBLIC
STATUS:CONFIRMED
END:VEVENT
END:VCALENDAR
