BEGIN:VCALENDAR
VERSION:2.0
PRODID:-//Event Kalender//DE
CALSCALE:GREGORIAN
METHOD:PUBLISH
BEGIN:VEVENT
UID:prec-1351@kiekebusch.de
DTSTAMP:20260424T200629Z
CREATED:20260114T134733Z
LAST-MODIFIED:20260404T134524Z
DTSTART;TZID=Europe/Berlin:20260116T144600
DTEND;TZID=Europe/Berlin:20260116T144600
SUMMARY:Weihnachtsbaum verbrennen
URL:https://kiekebusch.de/events/weihnachtsbaum-verbrennen/
CLASS:PUBLIC
STATUS:CONFIRMED
END:VEVENT
END:VCALENDAR
