BEGIN:VCALENDAR
VERSION:2.0
PRODID:-//Event Kalender//DE
CALSCALE:GREGORIAN
METHOD:PUBLISH
BEGIN:VEVENT
UID:prec-1354@kiekebusch.de
DTSTAMP:20260424T214044Z
CREATED:20251204T202625Z
LAST-MODIFIED:20260404T134524Z
DTSTART;TZID=Europe/Berlin:20251203T100000
DTEND;TZID=Europe/Berlin:20251203T110000
SUMMARY:Sportgruppe der Senioren
DESCRIPTION:trifft sich die Sportgruppe der Senioren(Saal-Spreeperle)
URL:https://kiekebusch.de/events/sportgruppe-der-senioren/
CLASS:PUBLIC
STATUS:CONFIRMED
END:VEVENT
END:VCALENDAR
