BEGIN:VCALENDAR
VERSION:2.0
PRODID:-//Event Kalender//DE
CALSCALE:GREGORIAN
METHOD:PUBLISH
BEGIN:VEVENT
UID:prec-1648@kiekebusch.de
DTSTAMP:20260424T184510Z
CREATED:20260422T082946Z
LAST-MODIFIED:20260422T145847Z
DTSTART;TZID=Europe/Berlin:20260430T170000
DTEND;TZID=Europe/Berlin:20260430T235900
SUMMARY:Maibaumstellen
DESCRIPTION:Maibaumstellen in Kiekebusch – herzliche Einladung am 30. April 2026\\nLiebe Kiekebuscher\\, liebe Gäste\\,\\ndie Freiwillige Feuerwehr Kiekebusch und der Bürgerverein Kiekebusch laden alle Einwohner sowie Freunde unseres Ortes herzlich zum traditionellen Maibaumstellen ein.\\nAm Donnerstag\\, dem 30. April 2026\\, ab 17.00 Uhr treffen wir uns auf dem Sportplatz\\, um gemeinsam den Maibaum aufzurichten und stimmungsvoll in den Mai zu tanzen. Für musikalische Unterhaltung und eine kulinarische Rundumvers
LOCATION:Turnstraße 8 03051 Cottbus DE
GEO:51.723572;14.358691
URL:https://kiekebusch.de/events/maibaumstellen/
CLASS:PUBLIC
STATUS:CONFIRMED
END:VEVENT
END:VCALENDAR
